Workbook

Sheet Данные
A2: Проверьте перед началом использования!!!
A3: Наименование товара | B3: Описание | C3: доп. параметр 1 | D3: доп. параметр 2 | E3: цена | F3: Старая цена, акция и т.д. (можно вставить формулу) | H3: Дополнительные данные
A4: Название товара 1 | B4: Описание товара 1 | C4: Артикул: | D4: номер артикула 1 | E4: 991450.99 | H4: юр. Лицо | I4: ООО "Магазин"
A5: Товар 2 | B5: Описание 2 | C5: Артикул: | D5: номер артикула 2 | E5: 1.1 | F5: =E5+1 -> 2.1
A6: Товар 3 | B6: Описание 3 | C6: Артикул: | D6: номер артикула 3 | E6: 3.23 | F6: =E6+1 -> 4.23 | H6: дата | I6: 42751
A7: товар 4 | B7: Описание 4 | C7: Артикул: | D7: номер артикула 4 | E7: 4.58 | F7: =E7+1 -> 5.58 | H7: спец. цена
A8: товар 5 | B8: Описание 5 | C8: Артикул: | D8: номер артикула 5 | E8: 5.55 | F8: =E8+1 -> 6.55 | H8: валюта (рубли) | I8: руб.
A9: товар 6 | B9: Описание 6 | C9: Артикул: | D9: номер артикула 6 | E9: 6.6 | F9: =E9+1 -> 7.6 | H9: валюта (копейки) | I9: коп.
A10: товар 7 | B10: Описание 7 | C10: Артикул: | D10: номер артикула 7 | E10: 7.77 | F10: =E10+1 -> 8.77
A11: товар 8 | B11: Описание 8 | C11: Артикул: | D11: номер артикула 8 | E11: 8.8 | F11: =E11+1 -> 9.8
A12: товар 9 | B12: Описание 9 | C12: Артикул: | D12: номер артикула 9 | E12: 9.99 | F12: =E12+1 -> 10.99 | H12: сп. цена валюта (рубли) | I12: руб.
A13: товар 10 | B13: Описание 10 | C13: Артикул: | D13: номер артикула 10 | E13: 10.1 | F13: =E13+1 -> 11.1 | H13: сп. Цена валюта (коп.) | I13: коп.
A14: товар 11 | B14: Описание 11 | C14: Артикул: | D14: номер артикула 11 | E14: 11111.1 | F14: =E14+1 -> 11112.1
A15: товар 12 | B15: Описание 12 | C15: Артикул: | D15: номер артикула 12 | E15: 12.12 | F15: =E15+1 -> 13.12
A16: товар 13 | B16: Описание 13 | C16: Артикул: | D16: номер артикула 13 | E16: 13.13 | F16: =E16+1 -> 14.13
A17: товар 14 | B17: Описание 14 | C17: Артикул: | D17: номер артикула 14 | E17: 14.14 | F17: =E17+1 -> 15.14
A18: товар 15 | B18: Описание 15 | C18: Артикул: | D18: номер артикула 15 | E18: 15.15 | F18: =E18+1 -> 16.15
A19: товар 16 | B19: Описание 16 | C19: Артикул: | D19: номер артикула 16 | E19: 16.16 | F19: =E19+1 -> 17.16
A20: товар 17 | B20: Описание 17 | C20: Артикул: | D20: номер артикула 17 | E20: 17.17 | F20: =E20+1 -> 18.17
A21: товар 18 | B21: Описание 18 | C21: Артикул: | D21: номер артикула 18 | E21: 18.18 | F21: =E21+1 -> 19.18
A22: товар 19 | B22: Описание 19 | C22: Артикул: | D22: номер артикула 19 | E22: 19.19 | F22: =E22+1 -> 20.19
A23: товар 20 | B23: Описание 20 | C23: Артикул: | D23: номер артикула 20 | E23: 20.2 | F23: =E23+1 -> 21.2
A24: товар 21 | B24: Описание 21 | C24: Артикул: | D24: номер артикула 21 | E24: 21.21 | F24: =E24+1 -> 22.21
A25: товар 22 | B25: Описание 22 | C25: Артикул: | D25: номер артикула 22 | E25: 22.22 | F25: =E25+1 -> 23.22
... A45: товар 42 | B45: Описание 42 | C45: Артикул: | D45: номер артикула 42 | E45: 42.42 | F45: =E45+1 -> 43.42

Sheet На печать
D4: =Данные!I4 -> ООО "Магазин" | G4: =Данные!I6 -> 42751 | K4: =Данные!I4 -> ООО "Магазин" | N4: =Данные!I6 -> 42751 | R4: =Данные!I4 -> ООО "Магазин" | U4: =Данные!I6 -> 42751
D6: =Данные!A4 -> Название товара 1 | K6: =Данные!A5 -> Товар 2 | R6: =Данные!A6 -> Товар 3
D7: =Данные!B4 -> Описание товара 1 | K7: =Данные!B5 -> Описание 2 | R7: =Данные!B6 -> Описание 3
D8: =IF(Данные!C4=""," ",Данные!C4) -> Артикул: | F8: =IF(Данные!D4=""," ",Данные!D4) -> номер артикула 1 | K8: =IF(Данные!C5=""," ",Данные!C5) -> Артикул: | M8: =IF(Данные!D5=""," ",Данные!D5) -> номер артикула 2 | R8: =IF(Данные!C6=""," ",Данные!C6) -> Артикул: | T8: =IF(Данные!D6=""," ",Данные!D6) -> номер артикула 3
D9: =цены!A2 -> 991450 | F9: =Данные!I8 -> руб. | G9: =цены!B2 -> 99 | H9: =Данные!I9 -> коп. | K9: =цены!A3 -> 1 | M9: =Данные!I8 -> руб. | N9: =цены!B3 -> 10 | O9: =Данные!I9 -> коп. | R9: =цены!A4 -> 3 | T9: =Данные!I8 -> руб. | U9: =цены!B4 -> 23 | V9: =Данные!I9 -> коп.
D10: =Данные!I7 | E10: =IF(Данные!C2=""," ",цены!C2) | F10: =Данные!I12 -> руб. | G10: =IF(Данные!I13=""," ",цены!D2) -> #VALUE! | H10: =IF(Данные!I13=""," ",Данные!I13) -> коп. | K10: =Данные!I7 | L10: =IF(Данные!C3=""," ",цены!C3) -> 2 | M10: =Данные!I12 -> руб. | N10: =IF(Данные!I13=""," ",цены!D3) -> 10 | O10: =IF(Данные!I13=""," ",Данные!I13) -> коп. | R10: =Данные!I7 | S10: =IF(Данные!C4=""," ",цены!C4) -> 4 | T10: =Данные!I12 -> руб. | U10: =IF(Данные!I13=""," ",цены!D4) -> 23 | V10: =IF(Данные!I13=""," ",Данные!I13) -> коп.
D11: =Данные!I4 -> ООО "Магазин" | G11: =Данные!I6 -> 42751 | K11: =Данные!I4 -> ООО "Магазин" | N11: =Данные!I6 -> 42751 | R11: =Данные!I4 -> ООО "Магазин" | U11: =Данные!I6 -> 42751
D13: =Данные!A7 -> товар 4 | K13: =Данные!A8 -> товар 5 | R13: =Данные!A9 -> товар 6
D14: =Данные!B7 -> Описание 4 | K14: =Данные!B8 -> Описание 5 | R14: =Данные!B9 -> Описание 6
D15: =IF(Данные!C7=""," ",Данные!C7) -> Артикул: | F15: =IF(Данные!D7=""," ",Данные!D7) -> номер артикула 4 | K15: =IF(Данные!C8=""," ",Данные!C8) -> Артикул: | M15: =IF(Данные!D8=""," ",Данные!D8) -> номер артикула 5 | R15: =IF(Данные!C9=""," ",Данные!C9) -> Артикул: | T15: =IF(Данные!D9=""," ",Данные!D9) -> номер артикула 6
D16: =цены!A5 -> 4 | F16: =Данные!I8 -> руб. | G16: =цены!B5 -> 58 | H16: =Данные!I9 -> коп. | K16: =цены!A6 -> 5 | M16: =Данные!I8 -> руб. | N16: =цены!B6 -> 55 | O16: =Данные!I9 -> коп. | R16: =цены!A7 -> 6 | T16: =Данные!I8 -> руб. | U16: =цены!B7 -> 60 | V16: =Данные!I9 -> коп.
D17: =Данные!I7 | E17: =IF(Данные!C5=""," ",цены!C5) -> 5 | F17: =Данные!I12 -> руб. | G17: =IF(Данные!I13=""," ",цены!D5) -> 58 | H17: =IF(Данные!I13=""," ",Данные!I13) -> коп. | K17: =Данные!I7 | L17: =IF(Данные!C6=""," ",цены!C6) -> 6 | M17: =Данные!I12 -> руб. | N17: =IF(Данные!I13=""," ",цены!D6) -> 55 | O17: =IF(Данные!I13=""," ",Данные!I13) -> коп. | R17: =Данные!I7 | S17: =IF(Данные!C7=""," ",цены!C7) -> 7 | T17: =Данные!I12 -> руб. | U17: =IF(Данные!I13=""," ",цены!D7) -> 60 | V17: =IF(Данные!I13=""," ",Данные!I13) -> коп.
D18: =Данные!I4 -> ООО "Магазин" | G18: =Данные!I6 -> 42751 | K18: =Данные!I4 -> ООО "Магазин" | N18: =Данные!I6 -> 42751 | R18: =Данные!I4 -> ООО "Магазин" | U18: =Данные!I6 -> 42751
D20: =Данные!A10 -> товар 7 | K20: =Данные!A11 -> товар 8 | R20: =Данные!A12 -> товар 9
D21: =Данные!B10 -> Описание 7 | K21: =Данные!B11 -> Описание 8 | R21: =Данные!B12 -> Описание 9
D22: =IF(Данные!C10=""," ",Данные!C10) -> Артикул: | F22: =IF(Данные!D10=""," ",Данные!D10) -> номер артикула 7 | K22: =IF(Данные!C11=""," ",Данные!C11) -> Артикул: | M22: =IF(Данные!D11=""," ",Данные!D11) -> номер артикула 8 | R22: =IF(Данные!C12=""," ",Данные!C12) -> Артикул: | T22: =IF(Данные!D12=""," ",Данные!D12) -> номер артикула 9
D23: =цены!A8 -> 7 | F23: =Данные!I8 -> руб. | G23: =цены!B8 -> 77 | H23: =Данные!I9 -> коп. | K23: =цены!A9 -> 8 | M23: =Данные!I8 -> руб. | N23: =цены!B9 -> 80 | O23: =Данные!I9 -> коп. | R23: =цены!A10 -> 9 | T23: =Данные!I8 -> руб. | U23: =цены!B10 -> 99 | V23: =Данные!I9 -> коп.
D24: =Данные!I7 | E24: =IF(Данные!C8=""," ",цены!C8) -> 8 | F24: =Данные!I12 -> руб. | G24: =IF(Данные!I13=""," ",цены!D8) -> 77 | H24: =IF(Данные!I13=""," ",Данные!I13) -> коп. | K24: =Данные!I7 | L24: =IF(Данные!C9=""," ",цены!C9) -> 9 | M24: =Данные!I12 -> руб. | N24: =IF(Данные!I13=""," ",цены!D9) -> 80 | O24: =IF(Данные!I13=""," ",Данные!I13) -> коп. | R24: =Данные!I7 | S24: =IF(Данные!C10=""," ",цены!C10) -> 10 | T24: =Данные!I12 -> руб. | U24: =IF(Данные!I13=""," ",цены!D10) -> 99 | V24: =IF(Данные!I13=""," ",Данные!I13) -> коп.
D25: =Данные!I4 -> ООО "Магазин" | G25: =Данные!I6 -> 42751 | K25: =Данные!I4 -> ООО "Магазин" | N25: =Данные!I6 -> 42751 | R25: =Данные!I4 -> ООО "Магазин" | U25: =Данные!I6 -> 42751
D27: =Данные!A13 -> товар 10 | K27: =Данные!A14 -> товар 11 | R27: =Данные!A15 -> товар 12
D28: =Данные!B13 -> Описание 10 | K28: =Данные!B14 -> Описание 11 | R28: =Данные!B15 -> Описание 12
D29: =IF(Данные!C13=""," ",Данные!C13) -> Артикул: | F29: =IF(Данные!D13=""," ",Данные!D13) -> номер артикула 10 | K29: =IF(Данные!C14=""," ",Данные!C14) -> Артикул: | M29: =IF(Данные!D14=""," ",Данные!D14) -> номер артикула 11 | R29: =IF(Данные!C15=""," ",Данные!C15) -> Артикул: | T29: =IF(Данные!D15=""," ",Данные!D15) -> номер артикула 12
D30: =цены!A11 -> 10 | F30: =Данные!I8 -> руб. | G30: =цены!B11 -> 10 | H30: =Данные!I9 -> коп. | K30: =цены!A12 -> 11111 | M30: =Данные!I8 -> руб. | N30: =цены!B12 -> 10 | O30: =Данные!I9 -> коп. | R30: =цены!A13 -> 12 | T30: =Данные!I8 -> руб. | U30: =цены!B13 -> 12 | V30: =Данные!I9 -> коп.
D31: =Данные!I7 | E31: =IF(Данные!C11=""," ",цены!C11) -> 11 | F31: =Данные!I12 -> руб. | G31: =IF(Данные!I13=""," ",цены!D11) -> 10 | H31: =IF(Данные!I13=""," ",Данные!I13) -> коп. | K31: =Данные!I7 | L31: =IF(Данные!C12=""," ",цены!C12) -> 11112 | M31: =Данные!I12 -> руб. | N31: =IF(Данные!I13=""," ",цены!D12) -> 10 | O31: =IF(Данные!I13=""," ",Данные!I13) -> коп. | R31: =Данные!I7 | S31: =IF(Данные!C13=""," ",цены!C13) -> 13 | T31: =Данные!I12 -> руб. | U31: =IF(Данные!I13=""," ",цены!D13) -> 12 | V31: =IF(Данные!I13=""," ",Данные!I13) -> коп.
D32: =Данные!I4 -> ООО "Магазин" | G32: =Данные!I6 -> 42751 | K32: =Данные!I4 -> ООО "Магазин" | N32: =Данные!I6 -> 42751 | R32: =Данные!I4 -> ООО "Магазин" | U32: =Данные!I6 -> 42751
D34: =Данные!A16 -> товар 13 | K34: =Данные!A17 -> товар 14 | R34: =Данные!A18 -> товар 15
D35: =Данные!B16 -> Описание 13 | K35: =Данные!B17 -> Описание 14 | R35: =Данные!B18 -> Описание 15
D36: =IF(Данные!C16=""," ",Данные!C16) -> Артикул: | F36: =IF(Данные!D16=""," ",Данные!D16) -> номер артикула 13 | K36: =IF(Данные!C17=""," ",Данные!C17) -> Артикул: | M36: =IF(Данные!D17=""," ",Данные!D17) -> номер артикула 14 | R36: =IF(Данные!C18=""," ",Данные!C18) -> Артикул: | T36: =IF(Данные!D18=""," ",Данные!D18) -> номер артикула 15
D37: =цены!A14 -> 13 | F37: =Данные!I8 -> руб. | G37: =цены!B14 -> 13 | H37: =Данные!I9 -> коп. | K37: =цены!A15 -> 14 | M37: =Данные!I8 -> руб. | N37: =цены!B15 -> 14 | O37: =Данные!I9 -> коп. | R37: =цены!A16 -> 15 | T37: =Данные!I8 -> руб. | U37: =цены!B16 -> 15 | V37: =Данные!I9 -> коп.
D38: =Данные!I7 | E38: =IF(Данные!C14=""," ",цены!C14) -> 14 | F38: =Данные!I12 -> руб. | G38: =IF(Данные!I13=""," ",цены!D14) -> 13 | H38: =IF(Данные!I13=""," ",Данные!I13) -> коп. | K38: =Данные!I7 | L38: =IF(Данные!C15=""," ",цены!C15) -> 15 | M38: =Данные!I12 -> руб. | N38: =IF(Данные!I13=""," ",цены!D15) -> 14 | O38: =IF(Данные!I13=""," ",Данные!I13) -> коп. | R38: =Данные!I7 | S38: =IF(Данные!C16=""," ",цены!C16) -> 16 | T38: =Данные!I12 -> руб. | U38: =IF(Данные!I13=""," ",цены!D16) -> 15 | V38: =IF(Данные!I13=""," ",Данные!I13) -> коп.
D39: =Данные!I4 -> ООО "Магазин" | G39: =Данные!I6 -> 42751 | K39: =Данные!I4 -> ООО "Магазин" | N39: =Данные!I6 -> 42751 | R39: =Данные!I4 -> ООО "Магазин" | U39: =Данные!I6 -> 42751
D41: =Данные!A19 -> товар 16 | K41: =Данные!A20 -> товар 17 | R41: =Данные!A21 -> товар 18
D42: =Данные!B19 -> Описание 16 | K42: =Данные!B20 -> Описание 17 | R42: =Данные!B21 -> Описание 18
D43: =IF(Данные!C19=""," ",Данные!C19) -> Артикул: | F43: =IF(Данные!D19=""," ",Данные!D19) -> номер артикула 16 | K43: =IF(Данные!C20=""," ",Данные!C20) -> Артикул: | M43: =IF(Данные!D20=""," ",Данные!D20) -> номер артикула 17 | R43: =IF(Данные!C21=""," ",Данные!C21) -> Артикул: | T43: =IF(Данные!D21=""," ",Данные!D21) -> номер артикула 18
D44: =цены!A17 -> 16 | F44: =Данные!I8 -> руб. | G44: =цены!B17 -> 16 | H44: =Данные!I9 -> коп. | K44: =цены!A18 -> 17 | M44: =Данные!I8 -> руб. | N44: =цены!B18 -> 17 | O44: =Данные!I9 -> коп. | R44: =цены!A19 -> 18 | T44: =Данные!I8 -> руб. | U44: =цены!B19 -> 18 | V44: =Данные!I9 -> коп.
D45: =Данные!I7 | E45: =IF(Данные!C17=""," ",цены!C17) -> 17 | F45: =Данные!I12 -> руб. | G45: =IF(Данные!I13=""," ",цены!D17) -> 16 | H45: =IF(Данные!I13=""," ",Данные!I13) -> коп. | K45: =Данные!I7 | L45: =IF(Данные!C18=""," ",цены!C18) -> 18 | M45: =Данные!I12 -> руб. | N45: =IF(Данные!I13=""," ",цены!D18) -> 17 | O45: =IF(Данные!I13=""," ",Данные!I13) -> коп. | R45: =Данные!I7 | S45: =IF(Данные!C19=""," ",цены!C19) -> 19 | T45: =Данные!I12 -> руб. | U45: =IF(Данные!I13=""," ",цены!D19) -> 18 | V45: =IF(Данные!I13=""," ",Данные!I13) -> коп.
D46: =Данные!I4 -> ООО "Магазин" | G46: =Данные!I27 -> 0 | K46: =Данные!I4 -> ООО "Магазин" | N46: =Данные!I27 -> 0 | R46: =Данные!I4 -> ООО "Магазин" | U46: =Данные!I27 -> 0
D48: =Данные!A22 -> товар 19 | K48: =Данные!A23 -> товар 20 | R48: =Данные!A24 -> товар 21
D49: =Данные!B22 -> Описание 19 | K49: =Данные!B23 -> Описание 20 | R49: =Данные!B24 -> Описание 21
D50: =IF(Данные!C22=""," ",Данные!C22) -> Артикул: | F50: =IF(Данные!D22=""," ",Данные!D22) -> номер артикула 19 | K50: =IF(Данные!C23=""," ",Данные!C23) -> Артикул: | M50: =IF(Данные!D23=""," ",Данные!D23) -> номер артикула 20 | R50: =IF(Данные!C24=""," ",Данные!C24) -> Артикул: | T50: =IF(Данные!D24=""," ",Данные!D24) -> номер артикула 21
...

Sheet Инструкция
B2: ИНСТРУКЦИЯ
B4: 1. После скачивания сделать пробные ценники и все проверить! Для этого на листе "Данные" заполните нужную информацию, перейдите на лист "На печать" и нажмите "Файл">"Печать"
B8: 2. Если оставить поле для заполнения пустым, то на ценнике в ячейке привязанной к данному полю будет отображаться "0", чтобы этого не произошло, нужно напечатать "пробел" в неиспользуемом поле, вместо того, чтобы оставлять его пустым. Исключением является поле "сп. цена валюта (коп.)", которое нужно оставить пустым, если не нужно отображать копейки в нижней цене.
B15: 3. Не задавать вопросов авторам этого генератора ценников и не жаловаться, если что-то не устраивает. Не нравится - не пользуйтесь.
B19: © PrintFiles.ru, 2017 г.

Sheet цены
A1: Разложение цены на рубли | B1: Разложение цены на копейки | C1: Разложение спец. цены на рубли | D1: Разложение спец. цены на копейки
A2: =TRUNC(Данные!E4) -> 991450 | B2: =(Данные!E4-цены!A2)*100 -> 99 | C2: =TRUNC(Данные!F4) -> #VALUE! | D2: =(Данные!F4-цены!C2)*100 -> #VALUE!
A3: =TRUNC(Данные!E5) -> 1 | B3: =(Данные!E5-цены!A3)*100 -> 10 | C3: =TRUNC(Данные!F5) -> 2 | D3: =(Данные!F5-цены!C3)*100 -> 10
A4: =TRUNC(Данные!E6) -> 3 | B4: =(Данные!E6-цены!A4)*100 -> 23 | C4: =TRUNC(Данные!F6) -> 4 | D4: =(Данные!F6-цены!C4)*100 -> 23
A5: =TRUNC(Данные!E7) -> 4 | B5: =(Данные!E7-цены!A5)*100 -> 58 | C5: =TRUNC(Данные!F7) -> 5 | D5: =(Данные!F7-цены!C5)*100 -> 58
A6: =TRUNC(Данные!E8) -> 5 | B6: =(Данные!E8-цены!A6)*100 -> 55 | C6: =TRUNC(Данные!F8) -> 6 | D6: =(Данные!F8-цены!C6)*100 -> 55
A7: =TRUNC(Данные!E9) -> 6 | B7: =(Данные!E9-цены!A7)*100 -> 60 | C7: =TRUNC(Данные!F9) -> 7 | D7: =(Данные!F9-цены!C7)*100 -> 60
A8: =TRUNC(Данные!E10) -> 7 | B8: =(Данные!E10-цены!A8)*100 -> 77 | C8: =TRUNC(Данные!F10) -> 8 | D8: =(Данные!F10-цены!C8)*100 -> 77
A9: =TRUNC(Данные!E11) -> 8 | B9: =(Данные!E11-цены!A9)*100 -> 80 | C9: =TRUNC(Данные!F11) -> 9 | D9: =(Данные!F11-цены!C9)*100 -> 80
A10: =TRUNC(Данные!E12) -> 9 | B10: =(Данные!E12-цены!A10)*100 -> 99 | C10: =TRUNC(Данные!F12) -> 10 | D10: =(Данные!F12-цены!C10)*100 -> 99
A11: =TRUNC(Данные!E13) -> 10 | B11: =(Данные!E13-цены!A11)*100 -> 10 | C11: =TRUNC(Данные!F13) -> 11 | D11: =(Данные!F13-цены!C11)*100 -> 10
A12: =TRUNC(Данные!E14) -> 11111 | B12: =(Данные!E14-цены!A12)*100 -> 10 | C12: =TRUNC(Данные!F14) -> 11112 | D12: =(Данные!F14-цены!C12)*100 -> 10
A13: =TRUNC(Данные!E15) -> 12 | B13: =(Данные!E15-цены!A13)*100 -> 12 | C13: =TRUNC(Данные!F15) -> 13 | D13: =(Данные!F15-цены!C13)*100 -> 12
... A191: =TRUNC(Данные!E193) -> 0 | B191: =(Данные!E193-цены!A191)*100 -> 0 | C191: =TRUNC(Данные!F193) -> 0 | D191: =(Данные!F193-цены!C191)*100 -> 0
